BEGIN:VCALENDAR
VERSION:2.0
PRODID:-//Plone.org//NONSGML plone.app.event//EN
X-WR-TIMEZONE:Brazil/East
BEGIN:VEVENT
SUMMARY:108ª sessão ordinária da 17ª legislatura da Câmara Municipal 
 de Barra do Garças às 20h
DTSTART;VALUE=DATE:20150921
DTEND;VALUE=DATE:20150922
DTSTAMP;VALUE=DATE-TIME:20260420T192552Z
UID:4b83c4316e334274b76cce9c5d98f0a3@barradogarcas.mt.leg.br
CREATED;VALUE=DATE-TIME:20151218T200636Z
LAST-MODIFIED;VALUE=DATE-TIME:20160202T171403Z
URL:https://www.barradogarcas.mt.leg.br/institucional/eventos/108a-sessao-
 ordinaria-da-17a-legislatura-da-camara-municipal-de-barra-do-garcas-as-20h
END:VEVENT
END:VCALENDAR
