BEGIN:VCALENDAR
VERSION:2.0
PRODID:-//Plone.org//NONSGML plone.app.event//EN
X-WR-TIMEZONE:Brazil/East
BEGIN:VEVENT
SUMMARY:111ª sessão extraordinária da 17ª legislatura da Câmara Munic
 ipal de Barra do Garças às 20h
DTSTART;VALUE=DATE:20151009
DTEND;VALUE=DATE:20151010
DTSTAMP;VALUE=DATE-TIME:20260420T192602Z
UID:e44afeafa1214c0e90527be30b6f7935@barradogarcas.mt.leg.br
CREATED;VALUE=DATE-TIME:20151218T200501Z
LAST-MODIFIED;VALUE=DATE-TIME:20160202T171334Z
URL:https://www.barradogarcas.mt.leg.br/institucional/eventos/111a-sessao-
 extraordinaria-da-17a-legislatura-da-camara-municipal-de-barra-do-garcas-a
 s-20h
END:VEVENT
END:VCALENDAR
