BEGIN:VCALENDAR
VERSION:2.0
PRODID:-//Plone.org//NONSGML plone.app.event//EN
X-WR-TIMEZONE:Brazil/East
BEGIN:VEVENT
SUMMARY:111ª Sessão Ordinária às 20h
DTSTART;TZID=America/Sao_Paulo;VALUE=DATE-TIME:20191021T200000
DTEND;TZID=America/Sao_Paulo;VALUE=DATE-TIME:20191021T230000
DTSTAMP;VALUE=DATE-TIME:20260420T222020Z
UID:aaa444d305f3404ea539e26767eccf29@barradogarcas.mt.leg.br
CREATED;VALUE=DATE-TIME:20191021T193122Z
LAST-MODIFIED;VALUE=DATE-TIME:20191021T193819Z
LOCATION:Plenário da Câmara Municipal
URL:https://www.barradogarcas.mt.leg.br/institucional/eventos/111a-sessao-
 ordinaria-as-20h
END:VEVENT
BEGIN:VTIMEZONE
TZID:America/Sao_Paulo
X-LIC-LOCATION:America/Sao_Paulo
BEGIN:DAYLIGHT
DTSTART;VALUE=DATE-TIME:20191020T010000
TZNAME:BRST
TZOFFSETFROM:-0300
TZOFFSETTO:-0200
END:DAYLIGHT
END:VTIMEZONE
END:VCALENDAR
