BEGIN:VCALENDAR
VERSION:2.0
PRODID:-//Plone.org//NONSGML plone.app.event//EN
X-WR-TIMEZONE:Brazil/East
BEGIN:VEVENT
SUMMARY:113ª sessão ordinária da 17ª legislatura da Câmara Municipal 
 de Barra do Garças às 20h
DTSTART;VALUE=DATE:20151026
DTEND;VALUE=DATE:20151027
DTSTAMP;VALUE=DATE-TIME:20260420T192547Z
UID:87f5e52eddeb45518dd5d0005008ad42@barradogarcas.mt.leg.br
CREATED;VALUE=DATE-TIME:20151218T200357Z
LAST-MODIFIED;VALUE=DATE-TIME:20160202T171310Z
URL:https://www.barradogarcas.mt.leg.br/institucional/eventos/113a-sessao-
 ordinaria-da-17a-legislatura-da-camara-municipal-de-barra-do-garcas-as-20h
END:VEVENT
END:VCALENDAR
