BEGIN:VCALENDAR
VERSION:2.0
PRODID:-//Plone.org//NONSGML plone.app.event//EN
X-WR-TIMEZONE:Brazil/East
BEGIN:VEVENT
SUMMARY:116ª sessão ordinária da 17ª legislatura da Câmara Municipal 
 de Barra do Garças às 20h
DTSTART;VALUE=DATE:20151123
DTEND;VALUE=DATE:20151124
DTSTAMP;VALUE=DATE-TIME:20260420T192627Z
UID:ab318ecdeec94f7e8b3fb3b25438e429@www.barradogarcas.mt.leg.br
CREATED;VALUE=DATE-TIME:20151130T231303Z
LAST-MODIFIED;VALUE=DATE-TIME:20160202T162357Z
URL:https://www.barradogarcas.mt.leg.br/institucional/eventos/116a-sessao-
 ordinaria-da-17a-legislatura-da-camara-municipal-de-barra-do-garcas
END:VEVENT
END:VCALENDAR
