BEGIN:VCALENDAR
VERSION:2.0
PRODID:-//Plone.org//NONSGML plone.app.event//EN
X-WR-TIMEZONE:Brazil/East
BEGIN:VEVENT
SUMMARY:139ª Sessão Extraordinária às 18h
DTSTART;VALUE=DATE:20160615
DTEND;VALUE=DATE:20160616
DTSTAMP;VALUE=DATE-TIME:20260422T062824Z
UID:93563faf9f7a40eca866c74e14ab90f3@www.barradogarcas.mt.leg.br
CREATED;VALUE=DATE-TIME:20160615T183638Z
LAST-MODIFIED;VALUE=DATE-TIME:20160617T161725Z
LOCATION:Plenário da Câmara Municipal
URL:https://www.barradogarcas.mt.leg.br/institucional/eventos/121a-sessao-
 extraordinaria-as-18h
END:VEVENT
END:VCALENDAR
