BEGIN:VCALENDAR
VERSION:2.0
PRODID:-//Plone.org//NONSGML plone.app.event//EN
X-WR-TIMEZONE:Brazil/East
BEGIN:VEVENT
SUMMARY:121ª sessão ordinária às 20h
DTSTART;VALUE=DATE:20160201
DTEND;VALUE=DATE:20160202
DTSTAMP;VALUE=DATE-TIME:20260421T154836Z
UID:8b17ff3d63e04329a1a295391d5f5b44@www.barradogarcas.mt.leg.br
CREATED;VALUE=DATE-TIME:20160201T175959Z
DESCRIPTION:121ª sessão ordinária da 17ª legislatura da Câmara Munici
 pal de Barra do Garças
LAST-MODIFIED;VALUE=DATE-TIME:20160201T180049Z
URL:https://www.barradogarcas.mt.leg.br/institucional/eventos/121a-sessao-
 ordinaria
END:VEVENT
END:VCALENDAR
