BEGIN:VCALENDAR
VERSION:2.0
PRODID:-//Plone.org//NONSGML plone.app.event//EN
X-WR-TIMEZONE:Brazil/East
BEGIN:VEVENT
SUMMARY:123ª sessão ordinária às 20h
DTSTART;VALUE=DATE:20160222
DTEND;VALUE=DATE:20160223
DTSTAMP;VALUE=DATE-TIME:20260421T232252Z
UID:6a4f73d014f34c2f8872e791fe83faf3@www.barradogarcas.mt.leg.br
CREATED;VALUE=DATE-TIME:20160222T164941Z
DESCRIPTION:Local - Plenário da Câmara Municipal de Barra do Garças "Ve
 reador Manoel Pereira Brito"
LAST-MODIFIED;VALUE=DATE-TIME:20160222T165533Z
URL:https://www.barradogarcas.mt.leg.br/institucional/eventos/123a-sessao-
 ordinaria-as-20h
END:VEVENT
END:VCALENDAR
