BEGIN:VCALENDAR
VERSION:2.0
PRODID:-//Plone.org//NONSGML plone.app.event//EN
X-WR-TIMEZONE:Brazil/East
BEGIN:VEVENT
SUMMARY:124ª sessão ordinária às 20h
DTSTART;VALUE=DATE:20160229
DTEND;VALUE=DATE:20160301
DTSTAMP;VALUE=DATE-TIME:20260421T153926Z
UID:d4d1cb2239314b81a2a0fded5b04fb3b@www.barradogarcas.mt.leg.br
CREATED;VALUE=DATE-TIME:20160226T181503Z
LAST-MODIFIED;VALUE=DATE-TIME:20160226T181655Z
URL:https://www.barradogarcas.mt.leg.br/institucional/eventos/124a-sessao-
 ordinaria-as-20h
END:VEVENT
END:VCALENDAR
