BEGIN:VCALENDAR
VERSION:2.0
PRODID:-//Plone.org//NONSGML plone.app.event//EN
X-WR-TIMEZONE:Brazil/East
BEGIN:VEVENT
SUMMARY:127ª sessão ordinária às 20h
DTSTART;VALUE=DATE:20160321
DTEND;VALUE=DATE:20160322
DTSTAMP;VALUE=DATE-TIME:20260422T024136Z
UID:acfd738932b141d8a72f86cf1633555e@www.barradogarcas.mt.leg.br
CREATED;VALUE=DATE-TIME:20160321T173323Z
LAST-MODIFIED;VALUE=DATE-TIME:20160321T173640Z
LOCATION:Plenário da Câmara Municipal
URL:https://www.barradogarcas.mt.leg.br/institucional/eventos/127a-sessao-
 ordinaria-as-20h
END:VEVENT
END:VCALENDAR
