BEGIN:VCALENDAR
VERSION:2.0
PRODID:-//Plone.org//NONSGML plone.app.event//EN
X-WR-TIMEZONE:Brazil/East
BEGIN:VEVENT
SUMMARY:130ª Sessão Ordinária às 20h
DTSTART;TZID=Brazil/East;VALUE=DATE-TIME:20200504T200000
DTEND;TZID=Brazil/East;VALUE=DATE-TIME:20200504T230000
DTSTAMP;VALUE=DATE-TIME:20260421T181843Z
UID:6ffc8e5b7f7d4a26bd161c9cd5a5f8c0@barradogarcas.mt.leg.br
CREATED;VALUE=DATE-TIME:20200504T200616Z
LAST-MODIFIED;VALUE=DATE-TIME:20200504T200627Z
LOCATION:Online
URL:https://www.barradogarcas.mt.leg.br/institucional/eventos/130a-sessao-
 ordinaria-as-20h-1
END:VEVENT
BEGIN:VTIMEZONE
TZID:Brazil/East
X-LIC-LOCATION:Brazil/East
BEGIN:STANDARD
DTSTART;VALUE=DATE-TIME:20200215T230000
TZNAME:BRT
TZOFFSETFROM:-0200
TZOFFSETTO:-0300
END:STANDARD
END:VTIMEZONE
END:VCALENDAR
