BEGIN:VCALENDAR
VERSION:2.0
PRODID:-//Plone.org//NONSGML plone.app.event//EN
X-WR-TIMEZONE:Brazil/East
BEGIN:VEVENT
SUMMARY:130ª sessão ordinária às 20h
DTSTART;VALUE=DATE:20160411
DTEND;VALUE=DATE:20160412
DTSTAMP;VALUE=DATE-TIME:20260421T232143Z
UID:e371b5175b6b4b2d9e05b41a4516e6d1@www.barradogarcas.mt.leg.br
CREATED;VALUE=DATE-TIME:20160418T184828Z
LAST-MODIFIED;VALUE=DATE-TIME:20160418T185043Z
LOCATION:Plenário da Câmara Municipal
URL:https://www.barradogarcas.mt.leg.br/institucional/eventos/130a-sessao-
 ordinaria-as-20h
END:VEVENT
END:VCALENDAR
