BEGIN:VCALENDAR
VERSION:2.0
PRODID:-//Plone.org//NONSGML plone.app.event//EN
X-WR-TIMEZONE:Brazil/East
BEGIN:VEVENT
SUMMARY:131ª sessão ordinária às 20h
DTSTART;VALUE=DATE:20160418
DTEND;VALUE=DATE:20160419
DTSTAMP;VALUE=DATE-TIME:20260421T232227Z
UID:3c0202ce5c034969bc61f5a17e846469@www.barradogarcas.mt.leg.br
CREATED;VALUE=DATE-TIME:20160418T184915Z
LAST-MODIFIED;VALUE=DATE-TIME:20160418T185125Z
LOCATION:Plenário da Câmara Municipal
URL:https://www.barradogarcas.mt.leg.br/institucional/eventos/131a-sessao-
 ordinaria-as-20h
END:VEVENT
END:VCALENDAR
