BEGIN:VCALENDAR
VERSION:2.0
PRODID:-//Plone.org//NONSGML plone.app.event//EN
X-WR-TIMEZONE:Brazil/East
BEGIN:VEVENT
SUMMARY:133ª sessão ordinária às 20h
DTSTART;VALUE=DATE:20160502
DTEND;VALUE=DATE:20160503
DTSTAMP;VALUE=DATE-TIME:20260421T195417Z
UID:008444cd595d428b83f59f65d3bca125@www.barradogarcas.mt.leg.br
CREATED;VALUE=DATE-TIME:20160429T173846Z
LAST-MODIFIED;VALUE=DATE-TIME:20160429T173942Z
LOCATION:Plenário da Câmara Municipal
URL:https://www.barradogarcas.mt.leg.br/institucional/eventos/133a-sessao-
 ordinaria-as-20h
END:VEVENT
END:VCALENDAR
