BEGIN:VCALENDAR
VERSION:2.0
PRODID:-//Plone.org//NONSGML plone.app.event//EN
X-WR-TIMEZONE:Brazil/East
BEGIN:VEVENT
SUMMARY:138ª sessão ordinária às 20h
DTSTART;VALUE=DATE:20160606
DTEND;VALUE=DATE:20160607
DTSTAMP;VALUE=DATE-TIME:20260421T153925Z
UID:70d66e3d9c6149128a10bbd879d766dc@www.barradogarcas.mt.leg.br
CREATED;VALUE=DATE-TIME:20160606T162724Z
LAST-MODIFIED;VALUE=DATE-TIME:20160606T162808Z
LOCATION:Plenário da Câmara Municipal
URL:https://www.barradogarcas.mt.leg.br/institucional/eventos/138a-sessao-
 ordinaria-as-20h
END:VEVENT
END:VCALENDAR
