BEGIN:VCALENDAR
VERSION:2.0
PRODID:-//Plone.org//NONSGML plone.app.event//EN
X-WR-TIMEZONE:Brazil/East
BEGIN:VEVENT
SUMMARY:140ª sessão ordinária às 20h
DTSTART;VALUE=DATE:20160620
DTEND;VALUE=DATE:20160621
DTSTAMP;VALUE=DATE-TIME:20260421T135123Z
UID:bdf1cf4e79ca4ccfa11e5f367e13d70a@www.barradogarcas.mt.leg.br
CREATED;VALUE=DATE-TIME:20160627T161831Z
LAST-MODIFIED;VALUE=DATE-TIME:20160627T162310Z
URL:https://www.barradogarcas.mt.leg.br/institucional/eventos/140a-sessao-
 ordinaria-as-20h
END:VEVENT
END:VCALENDAR
