BEGIN:VCALENDAR
VERSION:2.0
PRODID:-//Plone.org//NONSGML plone.app.event//EN
X-WR-TIMEZONE:Brazil/East
BEGIN:VEVENT
SUMMARY:141ª sessão ordinária às 20h
DTSTART;VALUE=DATE:20160627
DTEND;VALUE=DATE:20160628
DTSTAMP;VALUE=DATE-TIME:20260421T153925Z
UID:1f1a5137b17b4074bee9a6a4ee59ef94@www.barradogarcas.mt.leg.br
ATTENDEE;CN="Toda a comunidade";ROLE=REQ-PARTICIPANT:Toda a comunidade
CREATED;VALUE=DATE-TIME:20160627T161931Z
LAST-MODIFIED;VALUE=DATE-TIME:20160627T162323Z
LOCATION:Plenário da Câmara Municipal
URL:https://www.barradogarcas.mt.leg.br/institucional/eventos/141a-sessao-
 ordinaria-as-20h
END:VEVENT
END:VCALENDAR
