BEGIN:VCALENDAR
VERSION:2.0
PRODID:-//Plone.org//NONSGML plone.app.event//EN
X-WR-TIMEZONE:Brazil/East
BEGIN:VEVENT
SUMMARY:1° Fórum dos Servidores Públicos Efetivos Municipal
DTSTART;TZID=Brazil/East;VALUE=DATE-TIME:20180608T190000
DTEND;TZID=Brazil/East;VALUE=DATE-TIME:20180608T220000
DTSTAMP;VALUE=DATE-TIME:20260421T214301Z
UID:0e50c08b73c148ca981468b26a6d5653@barradogarcas.mt.leg.br
CREATED;VALUE=DATE-TIME:20180521T170425Z
DESCRIPTION:Objetivo: Debater demandas dos servidores públicos efetivos d
 o município\, como recomposição salarial\, cumprimento da data-base\, a
 dicional por tempo de serviço\, insalubridade\, periculosidade\, quinquê
 nio\, elevação de classe e nível\, concurso\, entre outras.
LAST-MODIFIED;VALUE=DATE-TIME:20180521T171249Z
LOCATION:ASPM
URL:https://www.barradogarcas.mt.leg.br/institucional/eventos/1deg-forum-d
 os-servidores-publicos-efetivos-municipal
END:VEVENT
BEGIN:VTIMEZONE
TZID:Brazil/East
X-LIC-LOCATION:Brazil/East
BEGIN:STANDARD
DTSTART;VALUE=DATE-TIME:20180217T230000
TZNAME:BRT
TZOFFSETFROM:-0200
TZOFFSETTO:-0300
END:STANDARD
END:VTIMEZONE
END:VCALENDAR
