BEGIN:VCALENDAR
VERSION:2.0
PRODID:-//Plone.org//NONSGML plone.app.event//EN
X-WR-TIMEZONE:Brazil/East
BEGIN:VEVENT
SUMMARY:39ª Sessão Ordinária às 20h
DTSTART;TZID=Brazil/East;VALUE=DATE-TIME:20171204T200000
DTEND;TZID=Brazil/East;VALUE=DATE-TIME:20171204T230000
DTSTAMP;VALUE=DATE-TIME:20260421T135134Z
UID:b6c705f8143f4cbeb409f3ddbbd34040@barradogarcas.mt.leg.br
CREATED;VALUE=DATE-TIME:20180205T173225Z
LAST-MODIFIED;VALUE=DATE-TIME:20180205T173729Z
LOCATION:Plenário da Câmara Municipal
URL:https://www.barradogarcas.mt.leg.br/institucional/eventos/39a-sessao-o
 rdinaria-as-20h
END:VEVENT
BEGIN:VTIMEZONE
TZID:Brazil/East
X-LIC-LOCATION:Brazil/East
BEGIN:DAYLIGHT
DTSTART;VALUE=DATE-TIME:20171015T010000
TZNAME:BRST
TZOFFSETFROM:-0300
TZOFFSETTO:-0200
END:DAYLIGHT
END:VTIMEZONE
END:VCALENDAR
