BEGIN:VCALENDAR
VERSION:2.0
PRODID:-//Plone.org//NONSGML plone.app.event//EN
X-WR-TIMEZONE:Brazil/East
BEGIN:VEVENT
SUMMARY:4ª sessão ordinária às 20h
DTSTART;TZID=Brazil/East;VALUE=DATE-TIME:20170220T200000
DTSTAMP;VALUE=DATE-TIME:20260421T101546Z
UID:c0ecf34c72fa4e69be283040449b0249@barradogarcas.mt.leg.br
CREATED;VALUE=DATE-TIME:20170220T163754Z
LAST-MODIFIED;VALUE=DATE-TIME:20170704T175733Z
LOCATION:Plenário da Câmara Municipal
URL:https://www.barradogarcas.mt.leg.br/institucional/eventos/3a-sessao-or
 dinaria-as-20h
END:VEVENT
BEGIN:VTIMEZONE
TZID:Brazil/East
X-LIC-LOCATION:Brazil/East
BEGIN:STANDARD
DTSTART;VALUE=DATE-TIME:20170218T230000
TZNAME:BRT
TZOFFSETFROM:-0200
TZOFFSETTO:-0300
END:STANDARD
END:VTIMEZONE
END:VCALENDAR
