BEGIN:VCALENDAR
VERSION:2.0
PRODID:-//Plone.org//NONSGML plone.app.event//EN
X-WR-TIMEZONE:Brazil/East
BEGIN:VEVENT
SUMMARY:3ª Sessão Solene às 20h
DTSTART;TZID=Brazil/East;VALUE=DATE-TIME:20170614T200000
DTEND;TZID=Brazil/East;VALUE=DATE-TIME:20170614T230000
DTSTAMP;VALUE=DATE-TIME:20260421T125225Z
UID:be602bc17a2748498f6b78b97d7f88db@barradogarcas.mt.leg.br
CREATED;VALUE=DATE-TIME:20170613T004131Z
LAST-MODIFIED;VALUE=DATE-TIME:20170614T154234Z
LOCATION:Plenário da Câmara Municipal
URL:https://www.barradogarcas.mt.leg.br/institucional/eventos/3a-sessao-so
 lene-as-18h
END:VEVENT
BEGIN:VTIMEZONE
TZID:Brazil/East
X-LIC-LOCATION:Brazil/East
BEGIN:STANDARD
DTSTART;VALUE=DATE-TIME:20170218T230000
TZNAME:BRT
TZOFFSETFROM:-0200
TZOFFSETTO:-0300
END:STANDARD
END:VTIMEZONE
END:VCALENDAR
