BEGIN:VCALENDAR
VERSION:2.0
PRODID:-//Plone.org//NONSGML plone.app.event//EN
X-WR-TIMEZONE:Brazil/East
BEGIN:VEVENT
SUMMARY:41ª Sessão Ordinária às 20h
DTSTART;TZID=Brazil/East;VALUE=DATE-TIME:20171218T200000
DTEND;TZID=Brazil/East;VALUE=DATE-TIME:20171218T230000
DTSTAMP;VALUE=DATE-TIME:20260421T162343Z
UID:49ad787b06ce4847bddf45d3f91112a4@barradogarcas.mt.leg.br
CREATED;VALUE=DATE-TIME:20180205T173535Z
LAST-MODIFIED;VALUE=DATE-TIME:20180205T173815Z
LOCATION:Plenário da Câmara Municipal
URL:https://www.barradogarcas.mt.leg.br/institucional/eventos/41a-sessao-o
 rdinaria-as-20h
END:VEVENT
BEGIN:VTIMEZONE
TZID:Brazil/East
X-LIC-LOCATION:Brazil/East
BEGIN:DAYLIGHT
DTSTART;VALUE=DATE-TIME:20171015T010000
TZNAME:BRST
TZOFFSETFROM:-0300
TZOFFSETTO:-0200
END:DAYLIGHT
END:VTIMEZONE
END:VCALENDAR
