BEGIN:VCALENDAR
VERSION:2.0
PRODID:-//Plone.org//NONSGML plone.app.event//EN
X-WR-TIMEZONE:Brazil/East
BEGIN:VEVENT
SUMMARY:4ª Sessão Extraordinária às 20h
DTSTART;TZID=Brazil/East;VALUE=DATE-TIME:20170731T200000
DTEND;TZID=Brazil/East;VALUE=DATE-TIME:20170731T230000
DTSTAMP;VALUE=DATE-TIME:20260421T085638Z
UID:b7045e646c6046ca891e640aa9b7fa2c@barradogarcas.mt.leg.br
CREATED;VALUE=DATE-TIME:20170731T175333Z
LAST-MODIFIED;VALUE=DATE-TIME:20170731T180813Z
LOCATION:Plenário da Câmara Municipal
URL:https://www.barradogarcas.mt.leg.br/institucional/eventos/4a-sessao-ex
 traordinaria-as-20h
END:VEVENT
BEGIN:VTIMEZONE
TZID:Brazil/East
X-LIC-LOCATION:Brazil/East
BEGIN:STANDARD
DTSTART;VALUE=DATE-TIME:20170218T230000
TZNAME:BRT
TZOFFSETFROM:-0200
TZOFFSETTO:-0300
END:STANDARD
END:VTIMEZONE
END:VCALENDAR
