BEGIN:VCALENDAR
VERSION:2.0
PRODID:-//Plone.org//NONSGML plone.app.event//EN
X-WR-TIMEZONE:Brazil/East
BEGIN:VEVENT
SUMMARY:4ª Sessão Solene às 15h
DTSTART;TZID=Brazil/East;VALUE=DATE-TIME:20170621T150000
DTEND;TZID=Brazil/East;VALUE=DATE-TIME:20170621T160000
DTSTAMP;VALUE=DATE-TIME:20260421T125515Z
UID:236fd13f70a9443685e734c3ea3b9169@barradogarcas.mt.leg.br
CREATED;VALUE=DATE-TIME:20170621T181640Z
LAST-MODIFIED;VALUE=DATE-TIME:20170621T181751Z
LOCATION:Plenário da Câmara Municipal
URL:https://www.barradogarcas.mt.leg.br/institucional/eventos/4a-sessao-so
 lene-as-15h
END:VEVENT
BEGIN:VTIMEZONE
TZID:Brazil/East
X-LIC-LOCATION:Brazil/East
BEGIN:STANDARD
DTSTART;VALUE=DATE-TIME:20170218T230000
TZNAME:BRT
TZOFFSETFROM:-0200
TZOFFSETTO:-0300
END:STANDARD
END:VTIMEZONE
END:VCALENDAR
