BEGIN:VCALENDAR
VERSION:2.0
PRODID:-//Plone.org//NONSGML plone.app.event//EN
X-WR-TIMEZONE:Brazil/East
BEGIN:VEVENT
SUMMARY:51ª Sessão Ordinária às 20h
DTSTART;TZID=Brazil/East;VALUE=DATE-TIME:20180416T200000
DTEND;TZID=Brazil/East;VALUE=DATE-TIME:20180416T230000
DTSTAMP;VALUE=DATE-TIME:20260421T135123Z
UID:a5314031ff6b48fe9acc5ea192de6569@barradogarcas.mt.leg.br
CREATED;VALUE=DATE-TIME:20180416T182535Z
LAST-MODIFIED;VALUE=DATE-TIME:20180416T182745Z
LOCATION:Plenário da Câmara Municipal
URL:https://www.barradogarcas.mt.leg.br/institucional/eventos/51a-sessao-o
 rdinaria-as-20h
END:VEVENT
BEGIN:VTIMEZONE
TZID:Brazil/East
X-LIC-LOCATION:Brazil/East
BEGIN:STANDARD
DTSTART;VALUE=DATE-TIME:20180217T230000
TZNAME:BRT
TZOFFSETFROM:-0200
TZOFFSETTO:-0300
END:STANDARD
END:VTIMEZONE
END:VCALENDAR
