BEGIN:VCALENDAR
VERSION:2.0
PRODID:-//Plone.org//NONSGML plone.app.event//EN
X-WR-TIMEZONE:Brazil/East
BEGIN:VEVENT
SUMMARY:55ª Sessão Ordinária às 20h
DTSTART;TZID=Brazil/East;VALUE=DATE-TIME:20180521T200000
DTEND;TZID=Brazil/East;VALUE=DATE-TIME:20180521T230000
DTSTAMP;VALUE=DATE-TIME:20260421T055406Z
UID:d258fd0e0bae4f179f594b64c722c33c@barradogarcas.mt.leg.br
CREATED;VALUE=DATE-TIME:20180521T165613Z
LAST-MODIFIED;VALUE=DATE-TIME:20180521T165734Z
LOCATION:Plenário da Câmara Municipal
URL:https://www.barradogarcas.mt.leg.br/institucional/eventos/55a-sessao-o
 rdinaria-as-20h
END:VEVENT
BEGIN:VTIMEZONE
TZID:Brazil/East
X-LIC-LOCATION:Brazil/East
BEGIN:STANDARD
DTSTART;VALUE=DATE-TIME:20180217T230000
TZNAME:BRT
TZOFFSETFROM:-0200
TZOFFSETTO:-0300
END:STANDARD
END:VTIMEZONE
END:VCALENDAR
