BEGIN:VCALENDAR
VERSION:2.0
PRODID:-//Plone.org//NONSGML plone.app.event//EN
X-WR-TIMEZONE:Brazil/East
BEGIN:VEVENT
SUMMARY:58ª Sessão Ordinária às 20h
DTSTART;TZID=Brazil/East;VALUE=DATE-TIME:20180618T200000
DTEND;TZID=Brazil/East;VALUE=DATE-TIME:20180618T220000
DTSTAMP;VALUE=DATE-TIME:20260421T135125Z
UID:0102f2bee4da4327ade0fe28efb12f70@barradogarcas.mt.leg.br
CREATED;VALUE=DATE-TIME:20180625T172416Z
LAST-MODIFIED;VALUE=DATE-TIME:20180625T172817Z
LOCATION:Plenário da Câmara Municipal
URL:https://www.barradogarcas.mt.leg.br/institucional/eventos/58a-sessao-o
 rdinaria-as-20h
END:VEVENT
BEGIN:VTIMEZONE
TZID:Brazil/East
X-LIC-LOCATION:Brazil/East
BEGIN:STANDARD
DTSTART;VALUE=DATE-TIME:20180217T230000
TZNAME:BRT
TZOFFSETFROM:-0200
TZOFFSETTO:-0300
END:STANDARD
END:VTIMEZONE
END:VCALENDAR
