BEGIN:VCALENDAR
VERSION:2.0
PRODID:-//Plone.org//NONSGML plone.app.event//EN
X-WR-TIMEZONE:Brazil/East
BEGIN:VEVENT
SUMMARY:5ª Sessão Solene às 20h
DTSTART;TZID=Brazil/East;VALUE=DATE-TIME:20170802T200000
DTEND;TZID=Brazil/East;VALUE=DATE-TIME:20170802T230000
DTSTAMP;VALUE=DATE-TIME:20260421T160556Z
UID:00e19cf10e9f450c99ebc6839614480e@barradogarcas.mt.leg.br
CREATED;VALUE=DATE-TIME:20170731T175558Z
LAST-MODIFIED;VALUE=DATE-TIME:20170731T181128Z
LOCATION:Plenário da Câmara Municipal
URL:https://www.barradogarcas.mt.leg.br/institucional/eventos/5a-sessao-so
 lene-as-20h
END:VEVENT
BEGIN:VTIMEZONE
TZID:Brazil/East
X-LIC-LOCATION:Brazil/East
BEGIN:STANDARD
DTSTART;VALUE=DATE-TIME:20170218T230000
TZNAME:BRT
TZOFFSETFROM:-0200
TZOFFSETTO:-0300
END:STANDARD
END:VTIMEZONE
END:VCALENDAR
