BEGIN:VCALENDAR
VERSION:2.0
PRODID:-//Plone.org//NONSGML plone.app.event//EN
X-WR-TIMEZONE:Brazil/East
BEGIN:VEVENT
SUMMARY:6° Sessão Ordinária
DTSTART;TZID=Brazil/East;VALUE=DATE-TIME:20170313T200000
DTSTAMP;VALUE=DATE-TIME:20260421T083735Z
UID:51e6c82936534db29f9e98676f59373e@barradogarcas.mt.leg.br
CREATED;VALUE=DATE-TIME:20170327T160401Z
LAST-MODIFIED;VALUE=DATE-TIME:20170704T180235Z
URL:https://www.barradogarcas.mt.leg.br/institucional/eventos/5deg-sessao-
 ordinaria-1
END:VEVENT
BEGIN:VTIMEZONE
TZID:Brazil/East
X-LIC-LOCATION:Brazil/East
BEGIN:STANDARD
DTSTART;VALUE=DATE-TIME:20170218T230000
TZNAME:BRT
TZOFFSETFROM:-0200
TZOFFSETTO:-0300
END:STANDARD
END:VTIMEZONE
END:VCALENDAR
