BEGIN:VCALENDAR
VERSION:2.0
PRODID:-//Plone.org//NONSGML plone.app.event//EN
X-WR-TIMEZONE:Brazil/East
BEGIN:VEVENT
SUMMARY:73ª Sessão Ordinária às 20h
DTSTART;TZID=Brazil/East;VALUE=DATE-TIME:20181105T200000
DTEND;TZID=Brazil/East;VALUE=DATE-TIME:20181105T230000
DTSTAMP;VALUE=DATE-TIME:20260421T135129Z
UID:22cfc8bc91074ef9b946f78890ff0358@barradogarcas.mt.leg.br
CREATED;VALUE=DATE-TIME:20181105T204850Z
LAST-MODIFIED;VALUE=DATE-TIME:20181105T205002Z
LOCATION:Plenário da Câmara Municipal
URL:https://www.barradogarcas.mt.leg.br/institucional/eventos/73a-sessao-o
 rdinaria-as-20h
END:VEVENT
BEGIN:VTIMEZONE
TZID:Brazil/East
X-LIC-LOCATION:Brazil/East
BEGIN:DAYLIGHT
DTSTART;VALUE=DATE-TIME:20181021T010000
TZNAME:BRST
TZOFFSETFROM:-0300
TZOFFSETTO:-0200
END:DAYLIGHT
END:VTIMEZONE
END:VCALENDAR
