BEGIN:VCALENDAR
VERSION:2.0
PRODID:-//Plone.org//NONSGML plone.app.event//EN
X-WR-TIMEZONE:Brazil/East
BEGIN:VEVENT
SUMMARY:75ª Sessão Ordinária às 20h
DTSTART;TZID=Brazil/East;VALUE=DATE-TIME:20181126T200000
DTEND;TZID=Brazil/East;VALUE=DATE-TIME:20181126T230000
DTSTAMP;VALUE=DATE-TIME:20260421T055402Z
UID:7409e24fad9f438bbe857f4d9886f078@barradogarcas.mt.leg.br
CREATED;VALUE=DATE-TIME:20181203T201644Z
LAST-MODIFIED;VALUE=DATE-TIME:20181203T202043Z
LOCATION:Plenário da Câmara Municipal
URL:https://www.barradogarcas.mt.leg.br/institucional/eventos/75a-sessao-o
 rdinaria-as-20h
END:VEVENT
BEGIN:VTIMEZONE
TZID:Brazil/East
X-LIC-LOCATION:Brazil/East
BEGIN:DAYLIGHT
DTSTART;VALUE=DATE-TIME:20181021T010000
TZNAME:BRST
TZOFFSETFROM:-0300
TZOFFSETTO:-0200
END:DAYLIGHT
END:VTIMEZONE
END:VCALENDAR
