BEGIN:VCALENDAR
VERSION:2.0
PRODID:-//Plone.org//NONSGML plone.app.event//EN
X-WR-TIMEZONE:Brazil/East
BEGIN:VEVENT
SUMMARY:Assembleia Geral Barra-Previ
DTSTART;TZID=Brazil/East;VALUE=DATE-TIME:20180810T080000
DTEND;TZID=Brazil/East;VALUE=DATE-TIME:20180810T180000
DTSTAMP;VALUE=DATE-TIME:20260421T163932Z
UID:4f77a5cb1d374056a22c65993cb5a4a0@barradogarcas.mt.leg.br
CREATED;VALUE=DATE-TIME:20180713T194143Z
DESCRIPTION:Assembleia Geral de eleição do novo Conselho do Barra-Previ.
  Local - Câmara Municipal de Barra do Garças
LAST-MODIFIED;VALUE=DATE-TIME:20180713T194321Z
LOCATION:Plenário da Câmara Municipal
URL:https://www.barradogarcas.mt.leg.br/institucional/eventos/assembleia-g
 eral-barra-previ
END:VEVENT
BEGIN:VTIMEZONE
TZID:Brazil/East
X-LIC-LOCATION:Brazil/East
BEGIN:STANDARD
DTSTART;VALUE=DATE-TIME:20180217T230000
TZNAME:BRT
TZOFFSETFROM:-0200
TZOFFSETTO:-0300
END:STANDARD
END:VTIMEZONE
END:VCALENDAR
