BEGIN:VCALENDAR
VERSION:2.0
PRODID:-//Plone.org//NONSGML plone.app.event//EN
X-WR-TIMEZONE:Brazil/East
BEGIN:VEVENT
SUMMARY:Audiência Pública - Concessão dos serviços municipais de trans
 portes públicos
DTSTART;TZID=Brazil/East;VALUE=DATE-TIME:20180315T190000
DTEND;TZID=Brazil/East;VALUE=DATE-TIME:20180315T230000
DTSTAMP;VALUE=DATE-TIME:20260421T144519Z
UID:1ed51983cfa54f66a9ce6450b7ba6304@barradogarcas.mt.leg.br
CREATED;VALUE=DATE-TIME:20180228T213851Z
LAST-MODIFIED;VALUE=DATE-TIME:20180228T213948Z
LOCATION:Plenário da Câmara Municipal
URL:https://www.barradogarcas.mt.leg.br/institucional/eventos/audiencia-pu
 blica-concessao-dos-servicos-municipais-de-transportes-publicos
END:VEVENT
BEGIN:VTIMEZONE
TZID:Brazil/East
X-LIC-LOCATION:Brazil/East
BEGIN:STANDARD
DTSTART;VALUE=DATE-TIME:20180217T230000
TZNAME:BRT
TZOFFSETFROM:-0200
TZOFFSETTO:-0300
END:STANDARD
END:VTIMEZONE
END:VCALENDAR
