BEGIN:VCALENDAR
VERSION:2.0
PRODID:-//Plone.org//NONSGML plone.app.event//EN
X-WR-TIMEZONE:Brazil/East
BEGIN:VEVENT
SUMMARY:Audiência Pública - Cumprimento das Metas Fiscais
DTSTART;TZID=Brazil/East;VALUE=DATE-TIME:20180927T143000
DTEND;TZID=Brazil/East;VALUE=DATE-TIME:20180927T163000
DTSTAMP;VALUE=DATE-TIME:20260421T215113Z
UID:9ccb82ee42d94b0e857f3aa418b75c3f@barradogarcas.mt.leg.br
CREATED;VALUE=DATE-TIME:20180919T171128Z
DESCRIPTION:Audiência Pública para demonstração e avaliação do cumpr
 imento das Metas Fiscais referente ao segundo quadrimestre de 2018.
LAST-MODIFIED;VALUE=DATE-TIME:20180919T171517Z
LOCATION:Plenário da Câmara Municipal
URL:https://www.barradogarcas.mt.leg.br/institucional/eventos/audiencia-pu
 blica-cumprimento-das-metas-fiscais-2
END:VEVENT
BEGIN:VTIMEZONE
TZID:Brazil/East
X-LIC-LOCATION:Brazil/East
BEGIN:STANDARD
DTSTART;VALUE=DATE-TIME:20180217T230000
TZNAME:BRT
TZOFFSETFROM:-0200
TZOFFSETTO:-0300
END:STANDARD
END:VTIMEZONE
END:VCALENDAR
