BEGIN:VCALENDAR
VERSION:2.0
PRODID:-//Plone.org//NONSGML plone.app.event//EN
X-WR-TIMEZONE:Brazil/East
BEGIN:VEVENT
SUMMARY:Audiência Pública - Cumprimento das Metas Fiscais
DTSTART;TZID=Brazil/East;VALUE=DATE-TIME:20190226T193000
DTEND;TZID=Brazil/East;VALUE=DATE-TIME:20190226T213000
DTSTAMP;VALUE=DATE-TIME:20260421T215138Z
UID:d1a92251f5404c5290ea19cbc221aaed@barradogarcas.mt.leg.br
CREATED;VALUE=DATE-TIME:20190212T202537Z
DESCRIPTION:Audiência Pública - Cumprimento das Metas Fiscais do último
  quadrimestre de 2018
LAST-MODIFIED;VALUE=DATE-TIME:20190212T202932Z
LOCATION:Plenário da Câmara Municipal
URL:https://www.barradogarcas.mt.leg.br/institucional/eventos/audiencia-pu
 blica-cumprimento-das-metas-fiscais-3
END:VEVENT
BEGIN:VTIMEZONE
TZID:Brazil/East
X-LIC-LOCATION:Brazil/East
BEGIN:STANDARD
DTSTART;VALUE=DATE-TIME:20190216T230000
TZNAME:BRT
TZOFFSETFROM:-0200
TZOFFSETTO:-0300
END:STANDARD
END:VTIMEZONE
END:VCALENDAR
