BEGIN:VCALENDAR
VERSION:2.0
PRODID:-//Plone.org//NONSGML plone.app.event//EN
X-WR-TIMEZONE:Brazil/East
BEGIN:VEVENT
SUMMARY:Audiência Pública - Feiras de venda de roupas e demais produtos 
 no município
DTSTART;TZID=Brazil/East;VALUE=DATE-TIME:20190214T193000
DTEND;TZID=Brazil/East;VALUE=DATE-TIME:20190214T213000
DTSTAMP;VALUE=DATE-TIME:20260421T144751Z
UID:65d7ad3a626743cdbb2f09d21c56019a@barradogarcas.mt.leg.br
CREATED;VALUE=DATE-TIME:20190205T195650Z
LAST-MODIFIED;VALUE=DATE-TIME:20190205T195753Z
LOCATION:Plenário da Câmara Municipal
URL:https://www.barradogarcas.mt.leg.br/institucional/eventos/audiencia-pu
 blica-feiras-de-venda-de-roupas-e-demais-produtos-no-municipio
END:VEVENT
BEGIN:VTIMEZONE
TZID:Brazil/East
X-LIC-LOCATION:Brazil/East
BEGIN:DAYLIGHT
DTSTART;VALUE=DATE-TIME:20181021T010000
TZNAME:BRST
TZOFFSETFROM:-0300
TZOFFSETTO:-0200
END:DAYLIGHT
END:VTIMEZONE
END:VCALENDAR
