BEGIN:VCALENDAR
VERSION:2.0
PRODID:-//Plone.org//NONSGML plone.app.event//EN
X-WR-TIMEZONE:Brazil/East
BEGIN:VEVENT
SUMMARY:Audiência Pública - Lei de Diretrizes Orçamentária (LDO)
DTSTART;TZID=Brazil/East;VALUE=DATE-TIME:20190320T193000
DTEND;TZID=Brazil/East;VALUE=DATE-TIME:20190320T213000
DTSTAMP;VALUE=DATE-TIME:20260424T053210Z
UID:bea331a592e044d9ab6e547ccfeada50@barradogarcas.mt.leg.br
CREATED;VALUE=DATE-TIME:20190212T202712Z
LAST-MODIFIED;VALUE=DATE-TIME:20190212T202939Z
LOCATION:Plenário da Câmara Municipal
URL:https://www.barradogarcas.mt.leg.br/institucional/eventos/audiencia-pu
 blica-lei-de-diretrizes-orcamentaria-ldo
END:VEVENT
BEGIN:VTIMEZONE
TZID:Brazil/East
X-LIC-LOCATION:Brazil/East
BEGIN:STANDARD
DTSTART;VALUE=DATE-TIME:20190216T230000
TZNAME:BRT
TZOFFSETFROM:-0200
TZOFFSETTO:-0300
END:STANDARD
END:VTIMEZONE
END:VCALENDAR
