BEGIN:VCALENDAR
VERSION:2.0
PRODID:-//Plone.org//NONSGML plone.app.event//EN
X-WR-TIMEZONE:Brazil/East
BEGIN:VEVENT
SUMMARY:Audiência Pública - Metas Fiscais último quadrimestre 2019
DTSTART;TZID=Brazil/East;VALUE=DATE-TIME:20200219T193000
DTEND;TZID=Brazil/East;VALUE=DATE-TIME:20200219T213000
DTSTAMP;VALUE=DATE-TIME:20260421T004836Z
UID:b735b7f4cc984cf2b7cfeb18c1a3bc65@barradogarcas.mt.leg.br
CREATED;VALUE=DATE-TIME:20200204T205848Z
LAST-MODIFIED;VALUE=DATE-TIME:20200204T205857Z
LOCATION:Plenário da Câmara Municipal
URL:https://www.barradogarcas.mt.leg.br/institucional/eventos/audiencia-pu
 blica-metas-fiscais-ultimo-quadrimestre-2019
END:VEVENT
BEGIN:VTIMEZONE
TZID:Brazil/East
X-LIC-LOCATION:Brazil/East
BEGIN:STANDARD
DTSTART;VALUE=DATE-TIME:20200215T230000
TZNAME:BRT
TZOFFSETFROM:-0200
TZOFFSETTO:-0300
END:STANDARD
END:VTIMEZONE
END:VCALENDAR
