BEGIN:VCALENDAR
VERSION:2.0
PRODID:-//Plone.org//NONSGML plone.app.event//EN
X-WR-TIMEZONE:Brazil/East
BEGIN:VEVENT
SUMMARY:Audiência Pública - Parque Estadual da Serra Azul
DTSTART;TZID=Brazil/East;VALUE=DATE-TIME:20180426T190000
DTEND;TZID=Brazil/East;VALUE=DATE-TIME:20180426T220000
DTSTAMP;VALUE=DATE-TIME:20260422T010445Z
UID:da5ed35a377a4589953c4428d4d70fd0@barradogarcas.mt.leg.br
CREATED;VALUE=DATE-TIME:20180423T210316Z
DESCRIPTION:Audiência Pública com o objetivo de debater o perímetro do 
 Parque Estadual da Serra Azul.
LAST-MODIFIED;VALUE=DATE-TIME:20180423T210520Z
LOCATION:Plenário da Câmara Municipal
URL:https://www.barradogarcas.mt.leg.br/institucional/eventos/audiencia-pu
 blica-parque-estadual-da-serra-azul
END:VEVENT
BEGIN:VTIMEZONE
TZID:Brazil/East
X-LIC-LOCATION:Brazil/East
BEGIN:STANDARD
DTSTART;VALUE=DATE-TIME:20180217T230000
TZNAME:BRT
TZOFFSETFROM:-0200
TZOFFSETTO:-0300
END:STANDARD
END:VTIMEZONE
END:VCALENDAR
