BEGIN:VCALENDAR
VERSION:2.0
PRODID:-//Plone.org//NONSGML plone.app.event//EN
X-WR-TIMEZONE:Brazil/East
BEGIN:VEVENT
SUMMARY:Audiência Pública - Política Estadual de Desenvolvimento da Pes
 ca
DTSTART;TZID=America/Sao_Paulo;VALUE=DATE-TIME:20191007T090000
DTEND;TZID=America/Sao_Paulo;VALUE=DATE-TIME:20191007T110000
DTSTAMP;VALUE=DATE-TIME:20260420T192652Z
UID:cd6086b9d7d2429b915f86ff718b45e5@www.barradogarcas.mt.leg.br
CREATED;VALUE=DATE-TIME:20191001T192828Z
LAST-MODIFIED;VALUE=DATE-TIME:20191001T193406Z
LOCATION:Plenário da Câmara Municipal
URL:https://www.barradogarcas.mt.leg.br/institucional/eventos/audiencia-pu
 blica-politica-estadual-de-desenvolvimento-da-pesca
END:VEVENT
BEGIN:VTIMEZONE
TZID:America/Sao_Paulo
X-LIC-LOCATION:America/Sao_Paulo
BEGIN:STANDARD
DTSTART;VALUE=DATE-TIME:20190216T230000
TZNAME:BRT
TZOFFSETFROM:-0200
TZOFFSETTO:-0300
END:STANDARD
END:VTIMEZONE
END:VCALENDAR
