BEGIN:VCALENDAR
VERSION:2.0
PRODID:-//Plone.org//NONSGML plone.app.event//EN
X-WR-TIMEZONE:Brazil/East
BEGIN:VEVENT
SUMMARY:Audiência Pública - Prestação de contas do I Quadrimestre 2019
DTSTART;TZID=America/Sao_Paulo;VALUE=DATE-TIME:20191029T140000
DTEND;TZID=America/Sao_Paulo;VALUE=DATE-TIME:20191029T160000
DTSTAMP;VALUE=DATE-TIME:20260421T004837Z
UID:2f815f4334a348279d8f735550753820@barradogarcas.mt.leg.br
CREATED;VALUE=DATE-TIME:20191018T152839Z
DESCRIPTION:Secretaria Municipal de Saúde
LAST-MODIFIED;VALUE=DATE-TIME:20191018T153232Z
LOCATION:Plenário da Câmara Municipal
URL:https://www.barradogarcas.mt.leg.br/institucional/eventos/audiencia-pu
 blica-prestacao-de-contas-do-i-quadrimestre-2019
END:VEVENT
BEGIN:VTIMEZONE
TZID:America/Sao_Paulo
X-LIC-LOCATION:America/Sao_Paulo
BEGIN:DAYLIGHT
DTSTART;VALUE=DATE-TIME:20191020T010000
TZNAME:BRST
TZOFFSETFROM:-0300
TZOFFSETTO:-0200
END:DAYLIGHT
END:VTIMEZONE
END:VCALENDAR
