BEGIN:VCALENDAR
VERSION:2.0
PRODID:-//Plone.org//NONSGML plone.app.event//EN
X-WR-TIMEZONE:Brazil/East
BEGIN:VEVENT
SUMMARY:Audiência Pública - Prestação de Contas do II Quadrimeste de 2
 017 da Secretaria de Saúde
DTSTART;TZID=Brazil/East;VALUE=DATE-TIME:20180228T134500
DTEND;TZID=Brazil/East;VALUE=DATE-TIME:20180228T154500
DTSTAMP;VALUE=DATE-TIME:20260421T144804Z
UID:72220a724c1e4804a9d3a13d948d4e2e@barradogarcas.mt.leg.br
CREATED;VALUE=DATE-TIME:20180227T201225Z
LAST-MODIFIED;VALUE=DATE-TIME:20180227T201357Z
LOCATION:Plenário da Câmara Municipal
URL:https://www.barradogarcas.mt.leg.br/institucional/eventos/audiencia-pu
 blica-prestacao-de-contas-do-ii-quadrimeste-de-2017-da-secretaria-de-saude
END:VEVENT
BEGIN:VTIMEZONE
TZID:Brazil/East
X-LIC-LOCATION:Brazil/East
BEGIN:STANDARD
DTSTART;VALUE=DATE-TIME:20180217T230000
TZNAME:BRT
TZOFFSETFROM:-0200
TZOFFSETTO:-0300
END:STANDARD
END:VTIMEZONE
END:VCALENDAR
