BEGIN:VCALENDAR
VERSION:2.0
PRODID:-//Plone.org//NONSGML plone.app.event//EN
X-WR-TIMEZONE:Brazil/East
BEGIN:VEVENT
SUMMARY:Audiência Pública - Questôes relacionadas ao Trânsito 
DTSTART;TZID=Brazil/East;VALUE=DATE-TIME:20190912T190000
DTEND;TZID=Brazil/East;VALUE=DATE-TIME:20190912T210000
DTSTAMP;VALUE=DATE-TIME:20260421T034548Z
UID:ce926b5bc2fa4898a2f68c2fef02aeda@barradogarcas.mt.leg.br
CREATED;VALUE=DATE-TIME:20190902T220114Z
LAST-MODIFIED;VALUE=DATE-TIME:20190902T220400Z
LOCATION:Plenário da Câmara Municipal
URL:https://www.barradogarcas.mt.leg.br/institucional/eventos/audiencia-pu
 blica-questoes-relacionadas-ao-transito
END:VEVENT
BEGIN:VTIMEZONE
TZID:Brazil/East
X-LIC-LOCATION:Brazil/East
BEGIN:STANDARD
DTSTART;VALUE=DATE-TIME:20190216T230000
TZNAME:BRT
TZOFFSETFROM:-0200
TZOFFSETTO:-0300
END:STANDARD
END:VTIMEZONE
END:VCALENDAR
