BEGIN:VCALENDAR
VERSION:2.0
PRODID:-//Plone.org//NONSGML plone.app.event//EN
X-WR-TIMEZONE:Brazil/East
BEGIN:VEVENT
SUMMARY:Audiência Pública - Semana de Preparação e Prevenção para In
 cêndios Florestais - SP2IF
DTSTART;TZID=Brazil/East;VALUE=DATE-TIME:20190708T080000
DTEND;TZID=Brazil/East;VALUE=DATE-TIME:20190708T103000
DTSTAMP;VALUE=DATE-TIME:20260421T004838Z
UID:3be1bb4c3c8c4b15a23265c8015ccf3b@barradogarcas.mt.leg.br
CREATED;VALUE=DATE-TIME:20190702T163549Z
LAST-MODIFIED;VALUE=DATE-TIME:20190702T163633Z
LOCATION:Plenário da Câmara Municipal
URL:https://www.barradogarcas.mt.leg.br/institucional/eventos/audiencia-pu
 blica-semana-de-preparacao-e-prevencao-para-incendios-florestais-sp2if
END:VEVENT
BEGIN:VTIMEZONE
TZID:Brazil/East
X-LIC-LOCATION:Brazil/East
BEGIN:STANDARD
DTSTART;VALUE=DATE-TIME:20190216T230000
TZNAME:BRT
TZOFFSETFROM:-0200
TZOFFSETTO:-0300
END:STANDARD
END:VTIMEZONE
END:VCALENDAR
