BEGIN:VCALENDAR
VERSION:2.0
PRODID:-//Plone.org//NONSGML plone.app.event//EN
X-WR-TIMEZONE:Brazil/East
BEGIN:VEVENT
SUMMARY:Reunião das Comissões Permanentes às 19h
DTSTART;TZID=Brazil/East;VALUE=DATE-TIME:20190909T190000
DTEND;TZID=Brazil/East;VALUE=DATE-TIME:20190909T200000
DTSTAMP;VALUE=DATE-TIME:20260421T002340Z
UID:4ae0f25602fe4bf79446b39bfeffe36c@www.barradogarcas.mt.leg.br
CREATED;VALUE=DATE-TIME:20190909T183730Z
LAST-MODIFIED;VALUE=DATE-TIME:20190909T183929Z
LOCATION:Anexo da Câmara Municipal
URL:https://www.barradogarcas.mt.leg.br/institucional/eventos/event.2019-0
 9-09.2199723853
END:VEVENT
BEGIN:VTIMEZONE
TZID:Brazil/East
X-LIC-LOCATION:Brazil/East
BEGIN:STANDARD
DTSTART;VALUE=DATE-TIME:20190216T230000
TZNAME:BRT
TZOFFSETFROM:-0200
TZOFFSETTO:-0300
END:STANDARD
END:VTIMEZONE
END:VCALENDAR
