BEGIN:VCALENDAR
VERSION:2.0
PRODID:-//Plone.org//NONSGML plone.app.event//EN
X-WR-TIMEZONE:Brazil/East
BEGIN:VEVENT
SUMMARY:Reunião das Comissões Permanentes às 19h
DTSTART;TZID=America/Sao_Paulo;VALUE=DATE-TIME:20191007T190000
DTEND;TZID=America/Sao_Paulo;VALUE=DATE-TIME:20191007T200000
DTSTAMP;VALUE=DATE-TIME:20260420T225713Z
UID:7291ab218fcf457db77e4cee98a57b98@www.barradogarcas.mt.leg.br
CREATED;VALUE=DATE-TIME:20191007T225016Z
LAST-MODIFIED;VALUE=DATE-TIME:20191007T225510Z
LOCATION:Anexo da Câmara Municipal
URL:https://www.barradogarcas.mt.leg.br/institucional/eventos/event.2019-1
 0-07.5968276747
END:VEVENT
BEGIN:VTIMEZONE
TZID:America/Sao_Paulo
X-LIC-LOCATION:America/Sao_Paulo
BEGIN:STANDARD
DTSTART;VALUE=DATE-TIME:20190216T230000
TZNAME:BRT
TZOFFSETFROM:-0200
TZOFFSETTO:-0300
END:STANDARD
END:VTIMEZONE
END:VCALENDAR
