BEGIN:VCALENDAR
VERSION:2.0
PRODID:-//Plone.org//NONSGML plone.app.event//EN
X-WR-TIMEZONE:Brazil/East
BEGIN:VEVENT
SUMMARY:Reunião das Comissões Permanentes às 19h
DTSTART;TZID=America/Sao_Paulo;VALUE=DATE-TIME:20191021T190000
DTEND;TZID=America/Sao_Paulo;VALUE=DATE-TIME:20191021T200000
DTSTAMP;VALUE=DATE-TIME:20260420T201007Z
UID:383752cbf4e14e2b98158a4506754c15@barradogarcas.mt.leg.br
CREATED;VALUE=DATE-TIME:20191021T193002Z
LAST-MODIFIED;VALUE=DATE-TIME:20191021T193810Z
LOCATION:Anexo da Câmara Municipal
URL:https://www.barradogarcas.mt.leg.br/institucional/eventos/event.2019-1
 0-21.1763072412
END:VEVENT
BEGIN:VTIMEZONE
TZID:America/Sao_Paulo
X-LIC-LOCATION:America/Sao_Paulo
BEGIN:DAYLIGHT
DTSTART;VALUE=DATE-TIME:20191020T010000
TZNAME:BRST
TZOFFSETFROM:-0300
TZOFFSETTO:-0200
END:DAYLIGHT
END:VTIMEZONE
END:VCALENDAR
