BEGIN:VCALENDAR
VERSION:2.0
PRODID:-//Plone.org//NONSGML plone.app.event//EN
X-WR-TIMEZONE:Brazil/East
BEGIN:VEVENT
SUMMARY:Reunião das Comissões Permanentes às 19h
DTSTART;TZID=America/Sao_Paulo;VALUE=DATE-TIME:20191202T190000
DTEND;TZID=America/Sao_Paulo;VALUE=DATE-TIME:20191202T200000
DTSTAMP;VALUE=DATE-TIME:20260420T225712Z
UID:7b83cc27ffcd4110974a0aed30c60619@barradogarcas.mt.leg.br
CREATED;VALUE=DATE-TIME:20191203T190640Z
LAST-MODIFIED;VALUE=DATE-TIME:20191203T191559Z
LOCATION:Anexo da Câmara Municipal
URL:https://www.barradogarcas.mt.leg.br/institucional/eventos/event.2019-1
 2-03.9787114383
END:VEVENT
BEGIN:VTIMEZONE
TZID:America/Sao_Paulo
X-LIC-LOCATION:America/Sao_Paulo
BEGIN:DAYLIGHT
DTSTART;VALUE=DATE-TIME:20191020T010000
TZNAME:BRST
TZOFFSETFROM:-0300
TZOFFSETTO:-0200
END:DAYLIGHT
END:VTIMEZONE
END:VCALENDAR
