BEGIN:VCALENDAR
VERSION:2.0
PRODID:-//Plone.org//NONSGML plone.app.event//EN
X-WR-TIMEZONE:Brazil/East
BEGIN:VEVENT
SUMMARY:Reunião das Comissões Permanentes às 19h
DTSTART;TZID=Brazil/East;VALUE=DATE-TIME:20200330T190000
DTEND;TZID=Brazil/East;VALUE=DATE-TIME:20200330T200000
DTSTAMP;VALUE=DATE-TIME:20260420T201927Z
UID:135d65bd86284be98d6f94cd16ecce9d@barradogarcas.mt.leg.br
CREATED;VALUE=DATE-TIME:20200330T211802Z
LAST-MODIFIED;VALUE=DATE-TIME:20200330T211842Z
LOCATION:Anexo da Câmara Municipal
URL:https://www.barradogarcas.mt.leg.br/institucional/eventos/event.2020-0
 3-30.0641977713
END:VEVENT
BEGIN:VTIMEZONE
TZID:Brazil/East
X-LIC-LOCATION:Brazil/East
BEGIN:STANDARD
DTSTART;VALUE=DATE-TIME:20200215T230000
TZNAME:BRT
TZOFFSETFROM:-0200
TZOFFSETTO:-0300
END:STANDARD
END:VTIMEZONE
END:VCALENDAR
