BEGIN:VCALENDAR
VERSION:2.0
PRODID:-//Plone.org//NONSGML plone.app.event//EN
X-WR-TIMEZONE:Brazil/East
BEGIN:VEVENT
SUMMARY:Reinauguração do Parque Municipal das Águas Quentes às 19h
DTSTART;VALUE=DATE:20160701
DTEND;VALUE=DATE:20160702
DTSTAMP;VALUE=DATE-TIME:20260421T174359Z
UID:c1a579941b45447b81b2745f8b9938f0@www.barradogarcas.mt.leg.br
CREATED;VALUE=DATE-TIME:20160627T162855Z
LAST-MODIFIED;VALUE=DATE-TIME:20160629T165036Z
LOCATION:Av. das Águas Quentes
URL:https://www.barradogarcas.mt.leg.br/institucional/eventos/reinauguraca
 o-do-parque-municipal-das-aguas-quentes
END:VEVENT
END:VCALENDAR
